BEGIN:VCALENDAR
VERSION:2.0
PRODID:-//Sabre//Sabre VObject 4.5.8//EN
CALSCALE:GREGORIAN
BEGIN:VEVENT
UID:sabre-vobject-22eb809d-be4d-4eaa-9442-0d6aa34d6df3
DTSTAMP:20260423T041024Z
SUMMARY:Pfarrsaal - Kinderevangelium
DESCRIPTION:https://pfarreien-bistum-augsburg.df-preview.de/pfarrsaal-kinde
 revangelium_id1737997
DTSTART;TZID=Europe/Berlin:20260510T100000
DURATION:PT30M
LOCATION:Zu den Heiligen Engeln
END:VEVENT
END:VCALENDAR
