BEGIN:VCALENDAR
VERSION:2.0
PRODID:-//Sabre//Sabre VObject 4.5.8//EN
CALSCALE:GREGORIAN
BEGIN:VEVENT
UID:sabre-vobject-6a719c63-91fe-4c97-9895-f40ab73c4593
DTSTAMP:20260424T142015Z
SUMMARY:Heilige Messe in polnischer Sprache
DESCRIPTION:https://pfarreien-bistum-augsburg.df-preview.de/heilige-messe-i
 n-polnischer-sprache_id1737989
DTSTART;TZID=Europe/Berlin:20260517T160000
DURATION:PT30M
LOCATION:Zu den Heiligen Engeln
END:VEVENT
END:VCALENDAR
