BEGIN:VCALENDAR
VERSION:2.0
PRODID:-//Sabre//Sabre VObject 4.5.8//EN
CALSCALE:GREGORIAN
BEGIN:VEVENT
UID:sabre-vobject-2d7dc5b0-79a1-4c78-9051-ef35b554fe5e
DTSTAMP:20260422T190240Z
SUMMARY:Hl. Messe (noch nicht sicher\, ob die Messe stattfinden kann\, bitt
 e informieren Sie sich auf unserer Homepage)
DESCRIPTION:https://pfarreien-bistum-augsburg.df-preview.de/hl-messe-noch-n
 icht-sicher-ob-die-messe-stattfinden-kann-bitte-informieren-sie-sich-auf-u
 nserer-homepage_id1737984
DTSTART;TZID=Europe/Berlin:20260430T190000
DURATION:PT30M
LOCATION:St. Johann Baptist
END:VEVENT
END:VCALENDAR
