BEGIN:VCALENDAR
VERSION:2.0
PRODID:-//Sabre//Sabre VObject 4.5.8//EN
CALSCALE:GREGORIAN
BEGIN:VEVENT
UID:sabre-vobject-8f4dc56d-ae2d-4cc5-8181-d7c069b5ed18
DTSTAMP:20260422T111333Z
SUMMARY:Rosenkranzgebet i. Freien vor d. Christus-Statue
DESCRIPTION:https://pfarreien-bistum-augsburg.df-preview.de/rosenkranzgebet
 -i-freien-vor-d-christus-statue_id1737982
DTSTART;TZID=Europe/Berlin:20260429T180000
DURATION:PT30M
LOCATION:St. Johann Baptist
END:VEVENT
END:VCALENDAR
