BEGIN:VCALENDAR
VERSION:2.0
PRODID:-//Sabre//Sabre VObject 4.5.8//EN
CALSCALE:GREGORIAN
BEGIN:VEVENT
UID:sabre-vobject-d61af2d9-4924-4be4-aea0-021a4cbc712b
DTSTAMP:20260421T064253Z
SUMMARY:Hl. Messe d. kroat. Gemeinde
DESCRIPTION:https://pfarreien-bistum-augsburg.df-preview.de/hl-messe-d-kroa
 t-gemeinde_id1737925
DTSTART;TZID=Europe/Berlin:20260424T183000
DURATION:PT30M
LOCATION:St. Johann Baptist
END:VEVENT
END:VCALENDAR
