BEGIN:VCALENDAR
VERSION:2.0
PRODID:-//Sabre//Sabre VObject 4.5.8//EN
CALSCALE:GREGORIAN
BEGIN:VEVENT
UID:sabre-vobject-8bf4a3e1-04aa-472f-8374-0e8e22bca457
DTSTAMP:20260422T141624Z
SUMMARY:Pfarrmesse
DESCRIPTION:https://pfarreien-bistum-augsburg.df-preview.de/pfarrmesse_id17
 37915
DTSTART;TZID=Europe/Berlin:20260419T090000
DURATION:PT30M
LOCATION:Mariä Heimsuchung
END:VEVENT
END:VCALENDAR
