BEGIN:VCALENDAR
VERSION:2.0
PRODID:-//Sabre//Sabre VObject 4.5.8//EN
CALSCALE:GREGORIAN
BEGIN:VEVENT
UID:sabre-vobject-b4fab608-ef80-440f-a852-cb9246d97a98
DTSTAMP:20260425T033550Z
SUMMARY:Hl. Stunde
DESCRIPTION:https://pfarreien-bistum-augsburg.df-preview.de/hl-stunde_id173
 7912
DTSTART;TZID=Europe/Berlin:20260505T180000
DURATION:PT30M
LOCATION:St. Nikolaus
END:VEVENT
END:VCALENDAR
