BEGIN:VCALENDAR
VERSION:2.0
PRODID:-//Sabre//Sabre VObject 4.5.8//EN
CALSCALE:GREGORIAN
BEGIN:VEVENT
UID:sabre-vobject-abf72f2e-adac-41a2-9af0-bd475bd2fb4b
DTSTAMP:20260425T010423Z
SUMMARY:Hl. M. mit den Kommunionkindern anschl. Frühstück und Wallfahrt z
 ur Justinakapelle
DESCRIPTION:https://pfarreien-bistum-augsburg.df-preview.de/hl-m-mit-den-ko
 mmunionkindern-anschl-fruehstueck-und-wallfahrt-zur-justinakapelle_id17379
 10
DTSTART;TZID=Europe/Berlin:20260504T081000
DURATION:PT30M
LOCATION:St. Nikolaus
END:VEVENT
END:VCALENDAR
