BEGIN:VCALENDAR
VERSION:2.0
PRODID:-//Sabre//Sabre VObject 4.5.8//EN
CALSCALE:GREGORIAN
BEGIN:VEVENT
UID:sabre-vobject-d936745e-9309-4b81-b865-989896f117d1
DTSTAMP:20260421T042552Z
SUMMARY:Heilige Messe in kroatischer Sprache
DESCRIPTION:https://pfarreien-bistum-augsburg.df-preview.de/heilige-messe-i
 n-kroatischer-sprache_id1737878
DTSTART;TZID=Europe/Berlin:20260426T160000
DURATION:PT30M
LOCATION:Zu den Heiligen Engeln
END:VEVENT
END:VCALENDAR
