BEGIN:VCALENDAR
VERSION:2.0
PRODID:-//Sabre//Sabre VObject 4.5.8//EN
CALSCALE:GREGORIAN
BEGIN:VEVENT
UID:sabre-vobject-a91a32de-9277-485e-9ad6-83dceec94444
DTSTAMP:20260424T213808Z
SUMMARY:Erstkommunionfeier mit Kinderchor: für die verstorbenen Angehörig
 en der Erstkommunionkinder
DESCRIPTION:https://pfarreien-bistum-augsburg.df-preview.de/erstkommunionfe
 ier-mit-kinderchor-fuer-die-verstorbenen-angehoerigen-der-erstkommunionkin
 der_id1737858
DTSTART;TZID=Europe/Berlin:20260503T100000
DURATION:PT30M
LOCATION:St. Nikolaus
END:VEVENT
END:VCALENDAR
