BEGIN:VCALENDAR
VERSION:2.0
PRODID:-//Sabre//Sabre VObject 4.5.8//EN
CALSCALE:GREGORIAN
BEGIN:VEVENT
UID:sabre-vobject-416b4f3e-281f-4fe1-be57-b6465274ca2e
DTSTAMP:20260422T174132Z
SUMMARY:Beginn der Andechswallfahrt
DESCRIPTION:https://pfarreien-bistum-augsburg.df-preview.de/beginn-der-ande
 chswallfahrt_id1737830
DTSTART;TZID=Europe/Berlin:20260509T024500
DURATION:PT30M
LOCATION:Zu den Heiligen Engeln
END:VEVENT
END:VCALENDAR
