BEGIN:VCALENDAR
VERSION:2.0
PRODID:-//Sabre//Sabre VObject 4.5.8//EN
CALSCALE:GREGORIAN
BEGIN:VEVENT
UID:sabre-vobject-01f56a10-51bc-43f5-933a-9686cf6f8abc
DTSTAMP:20260422T023038Z
SUMMARY:Rosenkranz
DESCRIPTION:https://pfarreien-bistum-augsburg.df-preview.de/rosenkranz_id17
 37815
DTSTART;TZID=Europe/Berlin:20260423T173000
DURATION:PT30M
LOCATION:St. Konrad
END:VEVENT
END:VCALENDAR
