BEGIN:VCALENDAR
VERSION:2.0
PRODID:-//Sabre//Sabre VObject 4.5.8//EN
CALSCALE:GREGORIAN
BEGIN:VEVENT
UID:sabre-vobject-4b21d28d-ab21-44f2-9942-2c81619db015
DTSTAMP:20260422T055350Z
SUMMARY:Bittgang nach Au\, 19.00 Uhr dort hl. Messe
DESCRIPTION:https://pfarreien-bistum-augsburg.df-preview.de/bittgang-nach-a
 u-19-00-uhr-dort-hl-messe_id1737784
DTSTART;TZID=Europe/Berlin:20260429T183000
DURATION:PT30M
LOCATION:St. Vitus und Katharina
END:VEVENT
END:VCALENDAR
