BEGIN:VCALENDAR
VERSION:2.0
PRODID:-//Sabre//Sabre VObject 4.5.8//EN
CALSCALE:GREGORIAN
BEGIN:VEVENT
UID:sabre-vobject-c920b957-eda2-4c64-9633-ea97ed666489
DTSTAMP:20260422T001504Z
SUMMARY:Heilige Messe (MB)
DESCRIPTION:https://pfarreien-bistum-augsburg.df-preview.de/heilige-messe-m
 b_id1737770
DTSTART;TZID=Europe/Berlin:20260422T183000
DURATION:PT30M
LOCATION:St. Martin
END:VEVENT
END:VCALENDAR
