BEGIN:VCALENDAR
VERSION:2.0
PRODID:-//Sabre//Sabre VObject 4.5.8//EN
CALSCALE:GREGORIAN
BEGIN:VEVENT
UID:sabre-vobject-8e935c7c-cc37-44a3-a4ce-cc3a005b8db2
DTSTAMP:20260423T015546Z
SUMMARY:Gottesdienst von den Sportschützen ZSG e.V. Bichl\,  am Dorfplatz\
 , bei schlechtem Wetter in der Kirche St. Georg
DESCRIPTION:https://pfarreien-bistum-augsburg.df-preview.de/gottesdienst-vo
 n-den-sportschuetzen-zsg-e-v-bichl-am-dorfplatz-bei-schlechtem-wetter-in-d
 er-kirche-st-georg_id1737761
DTSTART;TZID=Europe/Berlin:20260419T100000
DURATION:PT30M
LOCATION:Kuratie St. Georg
END:VEVENT
END:VCALENDAR
