BEGIN:VCALENDAR
VERSION:2.0
PRODID:-//Sabre//Sabre VObject 4.5.8//EN
CALSCALE:GREGORIAN
BEGIN:VEVENT
UID:sabre-vobject-bee8c3ad-27fc-4084-802c-0f8ee6be74bb
DTSTAMP:20260425T104910Z
SUMMARY:Festgottesdienst mit Chor und Orchester
DESCRIPTION:https://pfarreien-bistum-augsburg.df-preview.de/festgottesdiens
 t-mit-chor-und-orchester_id1737755
DTSTART;TZID=Europe/Berlin:20260524T100000
DURATION:PT30M
LOCATION:Zu den Heiligen Engeln
END:VEVENT
END:VCALENDAR
