BEGIN:VCALENDAR
VERSION:2.0
PRODID:-//Sabre//Sabre VObject 4.5.8//EN
CALSCALE:GREGORIAN
BEGIN:VEVENT
UID:sabre-vobject-405bd493-869a-4ae2-9fab-cebce64dee1a
DTSTAMP:20260422T021659Z
SUMMARY:Hl. Messe in Inchenhofen
DESCRIPTION:https://pfarreien-bistum-augsburg.df-preview.de/hl-messe-in-inc
 henhofen_id1737675
DTSTART;TZID=Europe/Berlin:20260510T073000
DURATION:PT30M
LOCATION:St. Michael\, Augsburger Str.\, 86568 Hollenbach
END:VEVENT
END:VCALENDAR
