BEGIN:VCALENDAR
VERSION:2.0
PRODID:-//Sabre//Sabre VObject 4.5.8//EN
CALSCALE:GREGORIAN
BEGIN:VEVENT
UID:sabre-vobject-50ae7444-1df4-4018-b532-d9f4a61c8761
DTSTAMP:20260422T140809Z
SUMMARY:Rosenkranz
DESCRIPTION:https://pfarreien-bistum-augsburg.df-preview.de/rosenkranz_id17
 37577
DTSTART;TZID=Europe/Berlin:20260502T090000
DURATION:PT30M
LOCATION:St. Martin
END:VEVENT
END:VCALENDAR
