BEGIN:VCALENDAR
VERSION:2.0
PRODID:-//Sabre//Sabre VObject 4.5.8//EN
CALSCALE:GREGORIAN
BEGIN:VEVENT
UID:sabre-vobject-9963e39d-7072-4bc5-b3f5-ab8f681214bc
DTSTAMP:20260422T051901Z
SUMMARY:Heilige Messe / Feier der Erstkommunion\, es spielt die Jugendband
DESCRIPTION:https://pfarreien-bistum-augsburg.df-preview.de/heilige-messe-f
 eier-der-erstkommunion-es-spielt-die-jugendband_id1737570
DTSTART;TZID=Europe/Berlin:20260503T103000
DURATION:PT30M
LOCATION:St. Konrad
END:VEVENT
END:VCALENDAR
