BEGIN:VCALENDAR
VERSION:2.0
PRODID:-//Sabre//Sabre VObject 4.5.8//EN
CALSCALE:GREGORIAN
BEGIN:VEVENT
UID:sabre-vobject-ab9c0707-de1a-406e-bc68-4ae09536caf6
DTSTAMP:20260420T140426Z
SUMMARY:Rosenkranz
DESCRIPTION:https://pfarreien-bistum-augsburg.df-preview.de/rosenkranz_id17
 37557
DTSTART;TZID=Europe/Berlin:20260419T183000
DURATION:PT30M
LOCATION:St. Clemens
END:VEVENT
END:VCALENDAR
