BEGIN:VCALENDAR
VERSION:2.0
PRODID:-//Sabre//Sabre VObject 4.5.8//EN
CALSCALE:GREGORIAN
BEGIN:VEVENT
UID:sabre-vobject-4efb65e6-1664-43ad-83df-0b59bcd78721
DTSTAMP:20260421T204044Z
SUMMARY:Vorabendmesse im Passionsspielhaus
DESCRIPTION:https://pfarreien-bistum-augsburg.df-preview.de/vorabendmesse-i
 m-passionsspielhaus_id1737475
DTSTART;TZID=Europe/Berlin:20260418T191500
DURATION:PT30M
LOCATION:St. Anna
END:VEVENT
END:VCALENDAR
