BEGIN:VCALENDAR
VERSION:2.0
PRODID:-//Sabre//Sabre VObject 4.5.8//EN
CALSCALE:GREGORIAN
BEGIN:VEVENT
UID:sabre-vobject-8848555e-9786-4f39-b490-21785cd4b59c
DTSTAMP:20260425T001648Z
SUMMARY:Rosenkranz in Linden
DESCRIPTION:https://pfarreien-bistum-augsburg.df-preview.de/rosenkranz-in-l
 inden_id1737372
DTSTART;TZID=Europe/Berlin:20260521T190000
DURATION:PT30M
LOCATION:St. Gordian und Epimach
END:VEVENT
END:VCALENDAR
