BEGIN:VCALENDAR
VERSION:2.0
PRODID:-//Sabre//Sabre VObject 4.5.8//EN
CALSCALE:GREGORIAN
BEGIN:VEVENT
UID:sabre-vobject-3cadebb9-0607-46f7-9ea6-52a3d8ee13e0
DTSTAMP:20260422T033528Z
SUMMARY:Erste feierliche Maiandacht
DESCRIPTION:https://pfarreien-bistum-augsburg.df-preview.de/erste-feierlich
 e-maiandacht_id1737214
DTSTART;TZID=Europe/Berlin:20260501T191500
DURATION:PT30M
LOCATION:St. Andreas\, Paul-Gaupp-Str. 6\, 87665 Frankenried
END:VEVENT
END:VCALENDAR
