BEGIN:VCALENDAR
VERSION:2.0
PRODID:-//Sabre//Sabre VObject 4.5.8//EN
CALSCALE:GREGORIAN
BEGIN:VEVENT
UID:sabre-vobject-53d50bc5-121a-4b66-a358-bc2d9875627b
DTSTAMP:20260423T005028Z
SUMMARY:Lichterprozession zur Mariengrotte
DESCRIPTION:https://pfarreien-bistum-augsburg.df-preview.de/lichterprozessi
 on-zur-mariengrotte_id1737174
DTSTART;TZID=Europe/Berlin:20260517T203000
DURATION:PT30M
LOCATION:St. Stephan und Oswald\, Rottenbucherstraße 13\, 87662 Osterzell
END:VEVENT
END:VCALENDAR
