BEGIN:VCALENDAR
VERSION:2.0
PRODID:-//Sabre//Sabre VObject 4.5.8//EN
CALSCALE:GREGORIAN
BEGIN:VEVENT
UID:sabre-vobject-6c3b6dac-cb68-43c1-bff5-927c8545880d
DTSTAMP:20260422T225746Z
SUMMARY:Heilige Messe anschl. Eucharistische Anbetung und Lobpreismusik bis
  20 Uhr
DESCRIPTION:https://pfarreien-bistum-augsburg.df-preview.de/heilige-messe-a
 nschl-eucharistische-anbetung-und-lobpreismusik-bis-20-uhr_id1737144
DTSTART;TZID=Europe/Berlin:20260504T183000
DURATION:PT30M
LOCATION:St. Martin
END:VEVENT
END:VCALENDAR
