BEGIN:VCALENDAR
VERSION:2.0
PRODID:-//Sabre//Sabre VObject 4.5.8//EN
CALSCALE:GREGORIAN
BEGIN:VEVENT
UID:sabre-vobject-8d504a51-0723-401d-8fba-0a9655f18e37
DTSTAMP:20260424T024253Z
SUMMARY:Rosenkranzgebet
DESCRIPTION:https://pfarreien-bistum-augsburg.df-preview.de/rosenkranzgebet
 _id1737106
DTSTART;TZID=Europe/Berlin:20260424T162000
DURATION:PT30M
LOCATION:St. Justina
END:VEVENT
END:VCALENDAR
