BEGIN:VCALENDAR
VERSION:2.0
PRODID:-//Sabre//Sabre VObject 4.5.8//EN
CALSCALE:GREGORIAN
BEGIN:VEVENT
UID:sabre-vobject-9c157334-2788-4fa8-9ba2-ed814b77f410
DTSTAMP:20260421T094302Z
SUMMARY:Ökumenisches Friedensgebet vor der Erlöserkirche
DESCRIPTION:https://pfarreien-bistum-augsburg.df-preview.de/oekumenisches-f
 riedensgebet-vor-der-erloeserkirche_id1737100
DTSTART;TZID=Europe/Berlin:20260420T183000
DURATION:PT30M
LOCATION:St. Justina
END:VEVENT
END:VCALENDAR
