BEGIN:VCALENDAR
VERSION:2.0
PRODID:-//Sabre//Sabre VObject 4.5.8//EN
CALSCALE:GREGORIAN
BEGIN:VEVENT
UID:sabre-vobject-95b68d56-9d01-4869-a01b-d18e3d31bcb7
DTSTAMP:20260423T155038Z
SUMMARY:Hl. Messe zum Mesnertag
DESCRIPTION:https://pfarreien-bistum-augsburg.df-preview.de/hl-messe-zum-me
 snertag_id1737088
DTSTART;TZID=Europe/Berlin:20260423T100000
DURATION:PT30M
LOCATION:St. Justina
END:VEVENT
END:VCALENDAR
