BEGIN:VCALENDAR
VERSION:2.0
PRODID:-//Sabre//Sabre VObject 4.5.8//EN
CALSCALE:GREGORIAN
BEGIN:VEVENT
UID:sabre-vobject-ff390fe4-a9de-4947-a7dd-a8549573bf22
DTSTAMP:20260423T112218Z
SUMMARY:Meditationsgottesdienst "Kur der Seele" mit Musik
DESCRIPTION:https://pfarreien-bistum-augsburg.df-preview.de/meditationsgott
 esdienst-kur-der-seele-mit-musik_id1737085
DTSTART;TZID=Europe/Berlin:20260422T170000
DURATION:PT30M
LOCATION:St. Justina
END:VEVENT
END:VCALENDAR
