BEGIN:VCALENDAR
VERSION:2.0
PRODID:-//Sabre//Sabre VObject 4.5.8//EN
CALSCALE:GREGORIAN
BEGIN:VEVENT
UID:sabre-vobject-e9dd6d23-13ea-4557-9b61-82115a908408
DTSTAMP:20260421T064152Z
SUMMARY:Rosenkranzgebet
DESCRIPTION:https://pfarreien-bistum-augsburg.df-preview.de/rosenkranzgebet
 _id1737084
DTSTART;TZID=Europe/Berlin:20260422T162000
DURATION:PT30M
LOCATION:St. Justina
END:VEVENT
END:VCALENDAR
