BEGIN:VCALENDAR
VERSION:2.0
PRODID:-//Sabre//Sabre VObject 4.5.8//EN
CALSCALE:GREGORIAN
BEGIN:VEVENT
UID:sabre-vobject-cbba2bbf-466f-4142-bed7-7319dee8c61d
DTSTAMP:20260423T084739Z
SUMMARY:Hl. Messe zum Patrozinium in Blonhofen
DESCRIPTION:https://pfarreien-bistum-augsburg.df-preview.de/hl-messe-zum-pa
 trozinium-in-blonhofen_id1737069
DTSTART;TZID=Europe/Berlin:20260501T100000
DURATION:PT30M
LOCATION:St. Jakobus und Philippus\, Weldener Str. 4\, 87662 Kaltental
END:VEVENT
END:VCALENDAR
