BEGIN:VCALENDAR
VERSION:2.0
PRODID:-//Sabre//Sabre VObject 4.5.8//EN
CALSCALE:GREGORIAN
BEGIN:VEVENT
UID:sabre-vobject-c0e1cd19-2e58-440d-a81c-b9161e795fe8
DTSTAMP:20260420T212729Z
SUMMARY:Hl. Messe anschließend Friedensgebet
DESCRIPTION:https://pfarreien-bistum-augsburg.df-preview.de/hl-messe-anschl
 iessend-friedensgebet_id1737060
DTSTART;TZID=Europe/Berlin:20260422T110000
DURATION:PT30M
LOCATION:St. Justina
END:VEVENT
END:VCALENDAR
