BEGIN:VCALENDAR
VERSION:2.0
PRODID:-//Sabre//Sabre VObject 4.5.8//EN
CALSCALE:GREGORIAN
BEGIN:VEVENT
UID:sabre-vobject-389cef48-dcbe-4f0b-9926-6ead95a19ac8
DTSTAMP:20260421T020456Z
SUMMARY:Rosenkranzgebet
DESCRIPTION:https://pfarreien-bistum-augsburg.df-preview.de/rosenkranzgebet
 _id1737046
DTSTART;TZID=Europe/Berlin:20260418T162000
DURATION:PT30M
LOCATION:St. Justina
END:VEVENT
END:VCALENDAR
