BEGIN:VCALENDAR
VERSION:2.0
PRODID:-//Sabre//Sabre VObject 4.5.8//EN
CALSCALE:GREGORIAN
BEGIN:VEVENT
UID:sabre-vobject-34023a71-ff23-41c7-8536-7968f7f70e06
DTSTAMP:20260421T171540Z
SUMMARY:Erstkommunionfeier musikalische Gestaltung: Familienchor
DESCRIPTION:https://pfarreien-bistum-augsburg.df-preview.de/erstkommunionfe
 ier-musikalische-gestaltung-familienchor_id1737043
DTSTART;TZID=Europe/Berlin:20260418T101500
DURATION:PT30M
LOCATION:St. Justina
END:VEVENT
END:VCALENDAR
