BEGIN:VCALENDAR
VERSION:2.0
PRODID:-//Sabre//Sabre VObject 4.5.8//EN
CALSCALE:GREGORIAN
BEGIN:VEVENT
UID:sabre-vobject-3e069fc5-24b9-4de7-b47e-188875148131
DTSTAMP:20260420T170417Z
SUMMARY:Abendmesse
DESCRIPTION:https://pfarreien-bistum-augsburg.df-preview.de/abendmesse_id17
 37037
DTSTART;TZID=Europe/Berlin:20260416T191500
DURATION:PT30M
LOCATION:Hlgst. Dreifaltigkeit\, Sonthofener Str. 1\, 87477 Sulzberg
END:VEVENT
END:VCALENDAR
