BEGIN:VCALENDAR
VERSION:2.0
PRODID:-//Sabre//Sabre VObject 4.5.8//EN
CALSCALE:GREGORIAN
BEGIN:VEVENT
UID:sabre-vobject-f35b9212-db2a-4c31-870f-80dac54e7f0e
DTSTAMP:20260420T142537Z
SUMMARY:"Einfach beten" in Mariä Himmelfahrt in Ried
DESCRIPTION:https://pfarreien-bistum-augsburg.df-preview.de/einfach-beten-i
 n-mariae-himmelfahrt-in-ried_id1736643
DTSTART;TZID=Europe/Berlin:20260423T090000
DURATION:PT30M
LOCATION:St. Johannes Baptist
END:VEVENT
END:VCALENDAR
