BEGIN:VCALENDAR
VERSION:2.0
PRODID:-//Sabre//Sabre VObject 4.5.8//EN
CALSCALE:GREGORIAN
BEGIN:VEVENT
UID:sabre-vobject-52c4d633-50fd-4ff9-a075-3fa8a4d7c397
DTSTAMP:20260424T130921Z
SUMMARY:Taizégebet
DESCRIPTION:https://pfarreien-bistum-augsburg.df-preview.de/taizegebet_id17
 36595
DTSTART;TZID=Europe/Berlin:20260508T193000
DURATION:PT30M
LOCATION:St. Georg
END:VEVENT
END:VCALENDAR
