BEGIN:VCALENDAR
VERSION:2.0
PRODID:-//Sabre//Sabre VObject 4.5.8//EN
CALSCALE:GREGORIAN
BEGIN:VEVENT
UID:sabre-vobject-10e8fe9d-536b-4ddd-831a-15c50994d05e
DTSTAMP:20260420T164641Z
SUMMARY:Vorabendmesse
DESCRIPTION:https://pfarreien-bistum-augsburg.df-preview.de/vorabendmesse_i
 d1736539
DTSTART;TZID=Europe/Berlin:20260418T190000
DURATION:PT30M
LOCATION:St. Wolfgang\, Wolfgangstr. 1\, 86368 Gersthofen
END:VEVENT
END:VCALENDAR
