BEGIN:VCALENDAR
VERSION:2.0
PRODID:-//Sabre//Sabre VObject 4.5.8//EN
CALSCALE:GREGORIAN
BEGIN:VEVENT
UID:sabre-vobject-91c31dd9-f15a-4fc9-a51b-9e497503a126
DTSTAMP:20260421T223854Z
SUMMARY:Abmarsch zur Kobelwallfahrt
DESCRIPTION:https://pfarreien-bistum-augsburg.df-preview.de/abmarsch-zur-ko
 belwallfahrt_id1736517
DTSTART;TZID=Europe/Berlin:20260501T060000
DURATION:PT30M
LOCATION:St. Martin
END:VEVENT
END:VCALENDAR
