BEGIN:VCALENDAR
VERSION:2.0
PRODID:-//Sabre//Sabre VObject 4.5.8//EN
CALSCALE:GREGORIAN
BEGIN:VEVENT
UID:sabre-vobject-3a3d0e24-8162-4efb-bb52-d3d6f1152b01
DTSTAMP:20260420T084028Z
SUMMARY:Feier der Hl. Erstkommunion
DESCRIPTION:https://pfarreien-bistum-augsburg.df-preview.de/feier-der-hl-er
 stkommunion_id1736366
DTSTART;TZID=Europe/Berlin:20260503T093000
DURATION:PT30M
LOCATION:St. Remigius
END:VEVENT
END:VCALENDAR
