BEGIN:VCALENDAR
VERSION:2.0
PRODID:-//Sabre//Sabre VObject 4.5.8//EN
CALSCALE:GREGORIAN
BEGIN:VEVENT
UID:sabre-vobject-c38a7288-ca14-4d8f-ad0b-a662a2662ef1
DTSTAMP:20260424T161922Z
SUMMARY:Hl. Messe mit Bischof Mwagala u. Pfr. Basil Mzena\, anschl. Stehemp
 fang in d. Alten Schule
DESCRIPTION:https://pfarreien-bistum-augsburg.df-preview.de/hl-messe-mit-bi
 schof-mwagala-u-pfr-basil-mzena-anschl-stehempfang-in-d-alten-schule_id173
 6346
DTSTART;TZID=Europe/Berlin:20260424T193000
DURATION:PT30M
LOCATION:St. Michael\, Otostraße 2\, 82398 Polling Etting
END:VEVENT
END:VCALENDAR
