BEGIN:VCALENDAR
VERSION:2.0
PRODID:-//Sabre//Sabre VObject 4.5.8//EN
CALSCALE:GREGORIAN
BEGIN:VEVENT
UID:sabre-vobject-61f1dd35-c92f-4bc3-9250-00c5aa68ca7a
DTSTAMP:20260420T122248Z
SUMMARY:Heilige Messe mit Miniaufnahme
DESCRIPTION:https://pfarreien-bistum-augsburg.df-preview.de/heilige-messe-m
 it-miniaufnahme_id1736172
DTSTART;TZID=Europe/Berlin:20260418T191500
DURATION:PT30M
LOCATION:St. Peter und Paul
END:VEVENT
END:VCALENDAR
