BEGIN:VCALENDAR
VERSION:2.0
PRODID:-//Sabre//Sabre VObject 4.5.8//EN
CALSCALE:GREGORIAN
BEGIN:VEVENT
UID:sabre-vobject-413c562a-2efc-4cd3-9dc0-864d929dbbd7
DTSTAMP:20260420T195157Z
SUMMARY:Feierlicher Rosenkranz
DESCRIPTION:https://pfarreien-bistum-augsburg.df-preview.de/feierlicher-ros
 enkranz_id1735318
DTSTART;TZID=Europe/Berlin:20260415T180000
DURATION:PT30M
LOCATION:St. Martin
END:VEVENT
END:VCALENDAR
