BEGIN:VCALENDAR
VERSION:2.0
PRODID:-//Sabre//Sabre VObject 4.5.8//EN
CALSCALE:GREGORIAN
BEGIN:VEVENT
UID:sabre-vobject-72f1b28e-a7c8-425c-bcde-75ecac33f1f1
DTSTAMP:20260421T062101Z
SUMMARY:Gebet für den Frieden auf dem Kirchplatz
DESCRIPTION:https://pfarreien-bistum-augsburg.df-preview.de/gebet-fuer-den-
 frieden-auf-dem-kirchplatz_id1735152
DTSTART;TZID=Europe/Berlin:20260422T183000
DURATION:PT30M
LOCATION:St. Magnus
END:VEVENT
END:VCALENDAR
