BEGIN:VCALENDAR
VERSION:2.0
PRODID:-//Sabre//Sabre VObject 4.5.8//EN
CALSCALE:GREGORIAN
BEGIN:VEVENT
UID:sabre-vobject-c4364665-daa8-460f-be45-fa09f7bbf820
DTSTAMP:20260421T121116Z
SUMMARY:Heilige Messe
DESCRIPTION:https://pfarreien-bistum-augsburg.df-preview.de/heilige-messe_i
 d1735151
DTSTART;TZID=Europe/Berlin:20260422T183000
DURATION:PT30M
LOCATION:St. Magnus
END:VEVENT
END:VCALENDAR
