BEGIN:VCALENDAR
VERSION:2.0
PRODID:-//Sabre//Sabre VObject 4.5.8//EN
CALSCALE:GREGORIAN
BEGIN:VEVENT
UID:sabre-vobject-421a2c91-701f-4ab9-9092-b31e43d571de
DTSTAMP:20260423T222654Z
SUMMARY:Bittgang nach Maria Beinberg
DESCRIPTION:https://pfarreien-bistum-augsburg.df-preview.de/bittgang-nach-m
 aria-beinberg_id1735098
DTSTART;TZID=Europe/Berlin:20260501T060000
DURATION:PT30M
LOCATION:St. Martin\, Martinstraße\, 86556 Unterbernbach
END:VEVENT
END:VCALENDAR
