BEGIN:VCALENDAR
VERSION:2.0
PRODID:-//Sabre//Sabre VObject 4.5.8//EN
CALSCALE:GREGORIAN
BEGIN:VEVENT
UID:sabre-vobject-c04ac7af-3b88-48b4-ba7e-c8ac1bc12962
DTSTAMP:20260421T031258Z
SUMMARY:Heilige Messe
DESCRIPTION:https://pfarreien-bistum-augsburg.df-preview.de/heilige-messe_i
 d1735090
DTSTART;TZID=Europe/Berlin:20260419T081500
DURATION:PT30M
LOCATION:St. Martin\, Martinstraße\, 86556 Unterbernbach
END:VEVENT
END:VCALENDAR
