BEGIN:VCALENDAR
VERSION:2.0
PRODID:-//Sabre//Sabre VObject 4.5.8//EN
CALSCALE:GREGORIAN
BEGIN:VEVENT
UID:sabre-vobject-7b4a8f86-d7cd-4fad-a588-f46e7d9648b1
DTSTAMP:20260425T021549Z
SUMMARY:Rosenkranz
DESCRIPTION:https://pfarreien-bistum-augsburg.df-preview.de/rosenkranz_id17
 35035
DTSTART;TZID=Europe/Berlin:20260504T170000
DURATION:PT30M
LOCATION:St. Peter und Paul\, Kirchweg 2\, 86462 Langweid-Achsheim
END:VEVENT
END:VCALENDAR
