BEGIN:VCALENDAR
VERSION:2.0
PRODID:-//Sabre//Sabre VObject 4.5.8//EN
CALSCALE:GREGORIAN
BEGIN:VEVENT
UID:sabre-vobject-a54054a6-7509-4925-8a12-5ef67376949d
DTSTAMP:20260420T232843Z
SUMMARY:Heilige Messe
DESCRIPTION:https://pfarreien-bistum-augsburg.df-preview.de/heilige-messe_i
 d1734999
DTSTART;TZID=Europe/Berlin:20260416T100000
DURATION:PT30M
LOCATION:St. Salvator
END:VEVENT
END:VCALENDAR
