BEGIN:VCALENDAR
VERSION:2.0
PRODID:-//Sabre//Sabre VObject 4.5.8//EN
CALSCALE:GREGORIAN
BEGIN:VEVENT
UID:sabre-vobject-1dd08ad9-938f-44ea-a828-01a7b30393ef
DTSTAMP:20260423T015551Z
SUMMARY:Heilige Messe\, anschl. Maiandacht
DESCRIPTION:https://pfarreien-bistum-augsburg.df-preview.de/heilige-messe-a
 nschl-maiandacht_id1734929
DTSTART;TZID=Europe/Berlin:20260505T180000
DURATION:PT30M
LOCATION:St. Vitus\, Augsburger Str. 32\, 86462 Langweid
END:VEVENT
END:VCALENDAR
